Package: Heatplus Version: 3.17.0 Maintainer: Alexander Ploner MaintainerEmail: Alexander.Ploner at ki.se git_url: https://git.bioconductor.org/packages/Heatplus git_branch: devel git_last_commit: 5f8b64a git_last_commit_date: 2025-04-15 09:38:11 -0400 (Tue, 15 Apr 2025)