Package: Harman Version: 1.37.0 Command: /home/biocbuild/R/R/bin/R CMD INSTALL Harman StartedAt: 2025-10-16 21:11:44 -0000 (Thu, 16 Oct 2025) EndedAt: 2025-10-16 21:12:26 -0000 (Thu, 16 Oct 2025) EllapsedTime: 42.1 seconds RetCode: 0 Status: OK