Package: Harman Version: 1.37.0 Command: /home/biocbuild/R/R/bin/R CMD build --keep-empty-dirs --no-resave-data Harman StartedAt: 2025-10-17 01:50:07 -0000 (Fri, 17 Oct 2025) EndedAt: 2025-10-17 01:53:27 -0000 (Fri, 17 Oct 2025) EllapsedTime: 199.3 seconds RetCode: 0 Status: OK PackageFile: Harman_1.37.0.tar.gz PackageFileSize: 1.134 MiB