Package: Harman Version: 1.37.0 Command: rm -rf Harman.buildbin-libdir && mkdir Harman.buildbin-libdir && F:\biocbuild\bbs-3.22-bioc\R\bin\R.exe CMD INSTALL --build --library=Harman.buildbin-libdir Harman_1.37.0.tar.gz StartedAt: 2025-08-15 10:26:57 -0400 (Fri, 15 Aug 2025) EndedAt: 2025-08-15 10:27:23 -0400 (Fri, 15 Aug 2025) EllapsedTime: 26.4 seconds RetCode: 0 Status: OK PackageFile: Harman_1.37.0.zip PackageFileSize: 1.191 MiB