Package: Harman Version: 1.37.0 Command: /home/biocbuild/bbs-3.22-bioc/R/bin/R CMD INSTALL Harman StartedAt: 2025-10-19 15:05:37 -0400 (Sun, 19 Oct 2025) EndedAt: 2025-10-19 15:06:05 -0400 (Sun, 19 Oct 2025) EllapsedTime: 27.7 seconds RetCode: 0 Status: OK