Package: Harman Version: 1.37.0 Command: /home/biocbuild/bbs-3.22-bioc/R/bin/R CMD check --install=check:Harman.install-out.txt --library=/home/biocbuild/bbs-3.22-bioc/R/site-library --timings Harman_1.37.0.tar.gz StartedAt: 2025-10-20 00:43:37 -0400 (Mon, 20 Oct 2025) EndedAt: 2025-10-20 00:47:08 -0400 (Mon, 20 Oct 2025) EllapsedTime: 210.2 seconds RetCode: 0 Status: OK CheckDir: Harman.Rcheck Warnings: 0