Package: Harman Version: 1.37.0 Command: /home/biocbuild/bbs-3.22-bioc/R/bin/R CMD build --keep-empty-dirs --no-resave-data --md5 Harman StartedAt: 2025-10-19 18:03:45 -0400 (Sun, 19 Oct 2025) EndedAt: 2025-10-19 18:06:04 -0400 (Sun, 19 Oct 2025) EllapsedTime: 138.2 seconds RetCode: 0 Status: OK PackageFile: Harman_1.37.0.tar.gz PackageFileSize: 2.22 MiB