Package: Harman Version: 1.37.0 Command: /Library/Frameworks/R.framework/Resources/bin/R CMD INSTALL Harman StartedAt: 2025-10-19 15:08:18 -0400 (Sun, 19 Oct 2025) EndedAt: 2025-10-19 15:08:54 -0400 (Sun, 19 Oct 2025) EllapsedTime: 35.9 seconds RetCode: 0 Status: OK