Package: Harman Version: 1.37.0 Command: /Library/Frameworks/R.framework/Resources/bin/R CMD build --keep-empty-dirs --no-resave-data Harman StartedAt: 2025-10-19 17:32:23 -0400 (Sun, 19 Oct 2025) EndedAt: 2025-10-19 17:35:55 -0400 (Sun, 19 Oct 2025) EllapsedTime: 212.0 seconds RetCode: 0 Status: OK PackageFile: Harman_1.37.0.tar.gz PackageFileSize: 2.126 MiB