Package: Harman Version: 1.37.0 Command: rm -rf Harman.buildbin-libdir && mkdir Harman.buildbin-libdir && /Users/biocbuild/BBS/utils/build-universal.sh Harman_1.37.0.tar.gz /Library/Frameworks/R.framework/Resources/bin/R Harman.buildbin-libdir StartedAt: 2025-10-19 23:02:20 -0400 (Sun, 19 Oct 2025) EndedAt: 2025-10-19 23:02:25 -0400 (Sun, 19 Oct 2025) EllapsedTime: 5.1 seconds RetCode: 0 Status: OK PackageFile: Harman_1.37.0.tgz PackageFileSize: 2.176 MiB