Package: HVP Version: 0.99.5 Command: /home/biocbuild/R/R/bin/R CMD INSTALL HVP StartedAt: 2025-10-16 21:12:34 -0000 (Thu, 16 Oct 2025) EndedAt: 2025-10-16 21:12:49 -0000 (Thu, 16 Oct 2025) EllapsedTime: 15.6 seconds RetCode: 0 Status: OK