Package: HVP Version: 0.99.5 Command: /home/biocbuild/R/R/bin/R CMD build --keep-empty-dirs --no-resave-data HVP StartedAt: 2025-10-21 00:32:04 -0000 (Tue, 21 Oct 2025) EndedAt: 2025-10-21 00:33:26 -0000 (Tue, 21 Oct 2025) EllapsedTime: 82.1 seconds RetCode: 0 Status: OK PackageFile: HVP_0.99.5.tar.gz PackageFileSize: 1.169 MiB