Package: HVP Version: 0.99.5 Command: chmod a+r HVP -R && F:\biocbuild\bbs-3.22-bioc\R\bin\R.exe CMD build --keep-empty-dirs --no-resave-data HVP StartedAt: 2025-08-14 20:50:45 -0400 (Thu, 14 Aug 2025) EndedAt: 2025-08-14 20:52:20 -0400 (Thu, 14 Aug 2025) EllapsedTime: 94.7 seconds RetCode: 0 Status: OK PackageFile: HVP_0.99.5.tar.gz PackageFileSize: 1.143 MiB