Package: HVP Version: 0.99.5 Command: rm -rf HVP.buildbin-libdir && mkdir HVP.buildbin-libdir && F:\biocbuild\bbs-3.22-bioc\R\bin\R.exe CMD INSTALL --build --library=HVP.buildbin-libdir HVP_0.99.5.tar.gz StartedAt: 2025-08-15 10:29:11 -0400 (Fri, 15 Aug 2025) EndedAt: 2025-08-15 10:29:24 -0400 (Fri, 15 Aug 2025) EllapsedTime: 13.3 seconds RetCode: 0 Status: OK PackageFile: HVP_0.99.5.zip PackageFileSize: 772.2 KiB