############################################################################## ############################################################################## ### ### Running command: ### ### rm -rf HVP.buildbin-libdir && mkdir HVP.buildbin-libdir && F:\biocbuild\bbs-3.22-bioc\R\bin\R.exe CMD INSTALL --build --library=HVP.buildbin-libdir HVP_0.99.5.tar.gz ### ############################################################################## ############################################################################## * installing *source* package 'HVP' ... ** this is package 'HVP' version '0.99.5' ** using staged installation ** R ** inst ** byte-compile and prepare package for lazy loading in method for 'HVP' with signature '"Seurat"': no definition for class "Seurat" in method for 'HVP' with signature '"SummarizedExperiment"': no definition for class "SummarizedExperiment" ** help *** installing help indices ** building package indices ** installing vignettes ** testing if installed package can be loaded from temporary location ** testing if installed package can be loaded from final location ** testing if installed package keeps a record of temporary installation path * MD5 sums packaged installation of 'HVP' as HVP_0.99.5.zip * DONE (HVP)