Package: HVP Version: 0.99.5 Command: /Library/Frameworks/R.framework/Resources/bin/R CMD check --install=check:HVP.install-out.txt --library=/Library/Frameworks/R.framework/Resources/library --no-vignettes --timings HVP_0.99.5.tar.gz StartedAt: 2025-10-24 20:14:33 -0400 (Fri, 24 Oct 2025) EndedAt: 2025-10-24 20:14:59 -0400 (Fri, 24 Oct 2025) EllapsedTime: 25.3 seconds RetCode: 0 Status: OK CheckDir: HVP.Rcheck Warnings: 0