Package: HTqPCR Version: 1.64.0 Command: /Library/Frameworks/R.framework/Resources/bin/R CMD INSTALL HTqPCR StartedAt: 2025-11-17 18:55:09 -0500 (Mon, 17 Nov 2025) EndedAt: 2025-11-17 18:55:26 -0500 (Mon, 17 Nov 2025) EllapsedTime: 16.9 seconds RetCode: 0 Status: OK