Package: HTqPCR Version: 1.64.0 Command: /Library/Frameworks/R.framework/Resources/bin/R CMD check --install=check:HTqPCR.install-out.txt --library=/Library/Frameworks/R.framework/Resources/library --no-vignettes --timings HTqPCR_1.64.0.tar.gz StartedAt: 2025-11-18 08:57:56 -0500 (Tue, 18 Nov 2025) EndedAt: 2025-11-18 09:00:11 -0500 (Tue, 18 Nov 2025) EllapsedTime: 134.7 seconds RetCode: 0 Status: OK CheckDir: HTqPCR.Rcheck Warnings: 0