Package: HTqPCR Version: 1.64.0 Command: /Library/Frameworks/R.framework/Resources/bin/R CMD build --keep-empty-dirs --no-resave-data HTqPCR StartedAt: 2025-11-17 22:00:49 -0500 (Mon, 17 Nov 2025) EndedAt: 2025-11-17 22:00:58 -0500 (Mon, 17 Nov 2025) EllapsedTime: 9.1 seconds RetCode: 0 Status: OK PackageFile: HTqPCR_1.64.0.tar.gz PackageFileSize: 2.581 MiB