Package: HTqPCR Version: 1.64.0 Command: rm -rf HTqPCR.buildbin-libdir && mkdir HTqPCR.buildbin-libdir && /Users/biocbuild/BBS/utils/build-universal.sh HTqPCR_1.64.0.tar.gz /Library/Frameworks/R.framework/Resources/bin/R HTqPCR.buildbin-libdir StartedAt: 2025-11-18 15:42:41 -0500 (Tue, 18 Nov 2025) EndedAt: 2025-11-18 15:42:46 -0500 (Tue, 18 Nov 2025) EllapsedTime: 5.1 seconds RetCode: 0 Status: OK PackageFile: HTqPCR_1.64.0.tgz PackageFileSize: 2.464 MiB