Package: HMMcopy Version: 1.51.0 Command: chmod a+r HMMcopy -R && F:\biocbuild\bbs-3.22-bioc\R\bin\R.exe CMD build --keep-empty-dirs --no-resave-data HMMcopy StartedAt: 2025-08-14 20:49:26 -0400 (Thu, 14 Aug 2025) EndedAt: 2025-08-14 20:49:57 -0400 (Thu, 14 Aug 2025) EllapsedTime: 30.5 seconds RetCode: 0 Status: OK PackageFile: HMMcopy_1.51.0.tar.gz PackageFileSize: 1.238 MiB