Package: HMMcopy Version: 1.51.0 Command: rm -rf HMMcopy.buildbin-libdir && mkdir HMMcopy.buildbin-libdir && F:\biocbuild\bbs-3.22-bioc\R\bin\R.exe CMD INSTALL --build --library=HMMcopy.buildbin-libdir HMMcopy_1.51.0.tar.gz StartedAt: 2025-08-15 10:28:46 -0400 (Fri, 15 Aug 2025) EndedAt: 2025-08-15 10:28:58 -0400 (Fri, 15 Aug 2025) EllapsedTime: 11.9 seconds RetCode: 0 Status: OK PackageFile: HMMcopy_1.51.0.zip PackageFileSize: 1.296 MiB