Package: HMMcopy Version: 1.51.0 Command: /Library/Frameworks/R.framework/Resources/bin/R CMD INSTALL HMMcopy StartedAt: 2025-10-21 15:06:41 -0400 (Tue, 21 Oct 2025) EndedAt: 2025-10-21 15:07:01 -0400 (Tue, 21 Oct 2025) EllapsedTime: 20.1 seconds RetCode: 0 Status: OK