Package: HMMcopy Version: 1.51.0 Command: /Library/Frameworks/R.framework/Resources/bin/R CMD build --keep-empty-dirs --no-resave-data HMMcopy StartedAt: 2025-10-21 17:41:05 -0400 (Tue, 21 Oct 2025) EndedAt: 2025-10-21 17:41:55 -0400 (Tue, 21 Oct 2025) EllapsedTime: 49.3 seconds RetCode: 0 Status: OK PackageFile: HMMcopy_1.51.0.tar.gz PackageFileSize: 1.795 MiB