Package: HMMcopy Version: 1.51.0 Command: rm -rf HMMcopy.buildbin-libdir && mkdir HMMcopy.buildbin-libdir && /Users/biocbuild/BBS/utils/build-universal.sh HMMcopy_1.51.0.tar.gz /Library/Frameworks/R.framework/Resources/bin/R HMMcopy.buildbin-libdir StartedAt: 2025-10-22 02:29:37 -0400 (Wed, 22 Oct 2025) EndedAt: 2025-10-22 02:29:48 -0400 (Wed, 22 Oct 2025) EllapsedTime: 10.4 seconds RetCode: 0 Status: OK PackageFile: HMMcopy_1.51.0.tgz PackageFileSize: 1.854 MiB