Package: HIREewas Version: 1.27.0 Command: F:\biocbuild\bbs-3.22-bioc\R\bin\R.exe CMD check --no-multiarch --install=check:HIREewas.install-out.txt --library=F:\biocbuild\bbs-3.22-bioc\R\library --no-vignettes --timings HIREewas_1.27.0.tar.gz StartedAt: 2025-08-15 04:10:47 -0400 (Fri, 15 Aug 2025) EndedAt: 2025-08-15 04:12:35 -0400 (Fri, 15 Aug 2025) EllapsedTime: 107.6 seconds RetCode: 0 Status: OK CheckDir: HIREewas.Rcheck Warnings: 0