Package: HIREewas Version: 1.27.0 Command: chmod a+r HIREewas -R && F:\biocbuild\bbs-3.22-bioc\R\bin\R.exe CMD build --keep-empty-dirs --no-resave-data HIREewas StartedAt: 2025-08-14 20:48:28 -0400 (Thu, 14 Aug 2025) EndedAt: 2025-08-14 20:49:45 -0400 (Thu, 14 Aug 2025) EllapsedTime: 77.7 seconds RetCode: 0 Status: OK PackageFile: HIREewas_1.27.0.tar.gz PackageFileSize: 266.8 KiB