Package: HIREewas Version: 1.27.0 Command: /home/biocbuild/bbs-3.22-bioc/R/bin/R CMD build --keep-empty-dirs --no-resave-data --md5 HIREewas StartedAt: 2025-10-23 18:11:57 -0400 (Thu, 23 Oct 2025) EndedAt: 2025-10-23 18:12:49 -0400 (Thu, 23 Oct 2025) EllapsedTime: 51.1 seconds RetCode: 0 Status: OK PackageFile: HIREewas_1.27.0.tar.gz PackageFileSize: 266.3 KiB