Package: HIREewas Version: 1.28.0 Command: /Library/Frameworks/R.framework/Resources/bin/R CMD check --install=check:HIREewas.install-out.txt --library=/Library/Frameworks/R.framework/Resources/library --no-vignettes --timings HIREewas_1.28.0.tar.gz StartedAt: 2025-10-31 21:49:57 -0400 (Fri, 31 Oct 2025) EndedAt: 2025-10-31 21:51:27 -0400 (Fri, 31 Oct 2025) EllapsedTime: 90.0 seconds RetCode: 0 Status: OK CheckDir: HIREewas.Rcheck Warnings: 0