Package: HIREewas Version: 1.27.0 Maintainer: Xiangyu Luo MaintainerEmail: xyluo1991 at gmail.com git_url: https://git.bioconductor.org/packages/HIREewas git_branch: devel git_last_commit: 3baf3a6 git_last_commit_date: 2025-04-15 11:38:05 -0400 (Tue, 15 Apr 2025)