Package: HIPPO Version: 1.21.0 Command: F:\biocbuild\bbs-3.22-bioc\R\bin\R.exe CMD INSTALL HIPPO StartedAt: 2025-08-14 16:06:38 -0400 (Thu, 14 Aug 2025) EndedAt: 2025-08-14 16:07:15 -0400 (Thu, 14 Aug 2025) EllapsedTime: 36.7 seconds RetCode: 0 Status: OK