Package: HIPPO Version: 1.21.0 Command: rm -rf HIPPO.buildbin-libdir && mkdir HIPPO.buildbin-libdir && F:\biocbuild\bbs-3.22-bioc\R\bin\R.exe CMD INSTALL --build --library=HIPPO.buildbin-libdir HIPPO_1.21.0.tar.gz StartedAt: 2025-08-15 10:28:34 -0400 (Fri, 15 Aug 2025) EndedAt: 2025-08-15 10:29:07 -0400 (Fri, 15 Aug 2025) EllapsedTime: 33.7 seconds RetCode: 0 Status: OK PackageFile: HIPPO_1.21.0.zip PackageFileSize: 825.7 KiB