Package: HIPPO Version: 1.21.0 Command: /Library/Frameworks/R.framework/Resources/bin/R CMD build --keep-empty-dirs --no-resave-data HIPPO StartedAt: 2025-10-23 17:18:48 -0400 (Thu, 23 Oct 2025) EndedAt: 2025-10-23 17:19:41 -0400 (Thu, 23 Oct 2025) EllapsedTime: 52.6 seconds RetCode: 0 Status: OK PackageFile: HIPPO_1.21.0.tar.gz PackageFileSize: 650.5 KiB