Package: HIPPO Version: 1.21.0 Command: rm -rf HIPPO.buildbin-libdir && mkdir HIPPO.buildbin-libdir && /Users/biocbuild/BBS/utils/build-universal.sh HIPPO_1.21.0.tar.gz /Library/Frameworks/R.framework/Resources/bin/R HIPPO.buildbin-libdir StartedAt: 2025-10-24 01:38:58 -0400 (Fri, 24 Oct 2025) EndedAt: 2025-10-24 01:39:36 -0400 (Fri, 24 Oct 2025) EllapsedTime: 38.4 seconds RetCode: 0 Status: OK PackageFile: HIPPO_1.21.0.tgz PackageFileSize: 965 KiB