Package: HIPPO Version: 1.21.0 Command: rm -rf HIPPO.buildbin-libdir && mkdir HIPPO.buildbin-libdir && /Users/biocbuild/BBS/utils/build-universal.sh HIPPO_1.21.0.tar.gz /Library/Frameworks/R.framework/Resources/bin/R HIPPO.buildbin-libdir StartedAt: 2025-10-19 23:02:47 -0400 (Sun, 19 Oct 2025) EndedAt: 2025-10-19 23:02:58 -0400 (Sun, 19 Oct 2025) EllapsedTime: 11.3 seconds RetCode: 0 Status: OK PackageFile: HIPPO_1.21.0.tgz PackageFileSize: 963.4 KiB