Package: HIBAG Version: 1.45.0 Command: rm -rf HIBAG.buildbin-libdir && mkdir HIBAG.buildbin-libdir && F:\biocbuild\bbs-3.22-bioc\R\bin\R.exe CMD INSTALL --build --library=HIBAG.buildbin-libdir HIBAG_1.45.0.tar.gz StartedAt: 2025-08-15 10:27:48 -0400 (Fri, 15 Aug 2025) EndedAt: 2025-08-15 10:28:42 -0400 (Fri, 15 Aug 2025) EllapsedTime: 54.4 seconds RetCode: 0 Status: OK PackageFile: HIBAG_1.45.0.zip PackageFileSize: 2.016 MiB