Package: HGC Version: 1.18.0 Command: /home/biocbuild/R/R/bin/R CMD check --install=check:HGC.install-out.txt --library=/home/biocbuild/R/R/site-library --no-vignettes --timings HGC_1.18.0.tar.gz StartedAt: 2025-11-25 10:36:27 -0000 (Tue, 25 Nov 2025) EndedAt: 2025-11-25 10:41:03 -0000 (Tue, 25 Nov 2025) EllapsedTime: 276.4 seconds RetCode: 0 Status: WARNINGS CheckDir: HGC.Rcheck Warnings: 2