Package: HGC Version: 1.17.0 Command: /home/biocbuild/bbs-3.22-bioc/R/bin/R CMD INSTALL HGC StartedAt: 2025-10-03 15:09:11 -0400 (Fri, 03 Oct 2025) EndedAt: 2025-10-03 15:09:46 -0400 (Fri, 03 Oct 2025) EllapsedTime: 35.1 seconds RetCode: 0 Status: OK