Package: HGC Version: 1.17.0 Command: /Library/Frameworks/R.framework/Resources/bin/R CMD check --install=check:HGC.install-out.txt --library=/Library/Frameworks/R.framework/Resources/library --no-vignettes --timings HGC_1.17.0.tar.gz StartedAt: 2025-10-19 20:06:39 -0400 (Sun, 19 Oct 2025) EndedAt: 2025-10-19 20:07:56 -0400 (Sun, 19 Oct 2025) EllapsedTime: 76.9 seconds RetCode: 0 Status: WARNINGS CheckDir: HGC.Rcheck Warnings: 1