Package: HERON Version: 1.7.0 Command: /home/biocbuild/bbs-3.22-bioc/R/bin/R CMD INSTALL HERON StartedAt: 2025-10-05 15:22:34 -0400 (Sun, 05 Oct 2025) EndedAt: 2025-10-05 15:22:55 -0400 (Sun, 05 Oct 2025) EllapsedTime: 21.0 seconds RetCode: 0 Status: OK