Package: HERON Version: 1.7.0 Command: /home/biocbuild/bbs-3.22-bioc/R/bin/R CMD check --install=check:HERON.install-out.txt --library=/home/biocbuild/bbs-3.22-bioc/R/site-library --timings HERON_1.7.0.tar.gz StartedAt: 2025-10-04 00:34:08 -0400 (Sat, 04 Oct 2025) EndedAt: 2025-10-04 00:40:21 -0400 (Sat, 04 Oct 2025) EllapsedTime: 373.4 seconds RetCode: 0 Status: OK CheckDir: HERON.Rcheck Warnings: 0