Package: GrafGen Version: 1.5.0 Command: /home/biocbuild/R/R/bin/R CMD INSTALL GrafGen StartedAt: 2025-10-16 21:28:32 -0000 (Thu, 16 Oct 2025) EndedAt: 2025-10-16 21:29:05 -0000 (Thu, 16 Oct 2025) EllapsedTime: 32.6 seconds RetCode: 0 Status: OK