Package: GrafGen Version: 1.5.0 Command: /home/biocbuild/R/R/bin/R CMD check --install=check:GrafGen.install-out.txt --library=/home/biocbuild/R/R/site-library --no-vignettes --timings GrafGen_1.5.0.tar.gz StartedAt: 2025-10-17 09:47:37 -0000 (Fri, 17 Oct 2025) EndedAt: 2025-10-17 09:50:02 -0000 (Fri, 17 Oct 2025) EllapsedTime: 145.1 seconds RetCode: 0 Status: OK CheckDir: GrafGen.Rcheck Warnings: 0