Package: GrafGen Version: 1.5.0 Command: /home/biocbuild/R/R/bin/R CMD build --keep-empty-dirs --no-resave-data GrafGen StartedAt: 2025-10-21 00:16:53 -0000 (Tue, 21 Oct 2025) EndedAt: 2025-10-21 00:17:42 -0000 (Tue, 21 Oct 2025) EllapsedTime: 49.0 seconds RetCode: 0 Status: OK PackageFile: GrafGen_1.5.0.tar.gz PackageFileSize: 3.022 MiB