Package: GrafGen Version: 1.5.0 Command: /Library/Frameworks/R.framework/Resources/bin/R CMD INSTALL GrafGen StartedAt: 2025-10-19 15:19:34 -0400 (Sun, 19 Oct 2025) EndedAt: 2025-10-19 15:20:13 -0400 (Sun, 19 Oct 2025) EllapsedTime: 38.3 seconds RetCode: 0 Status: OK