Package: GrafGen Version: 1.5.0 Command: /Library/Frameworks/R.framework/Resources/bin/R CMD check --install=check:GrafGen.install-out.txt --library=/Library/Frameworks/R.framework/Resources/library --no-vignettes --timings GrafGen_1.5.0.tar.gz StartedAt: 2025-10-19 22:52:21 -0400 (Sun, 19 Oct 2025) EndedAt: 2025-10-19 22:54:39 -0400 (Sun, 19 Oct 2025) EllapsedTime: 138.1 seconds RetCode: 0 Status: WARNINGS CheckDir: GrafGen.Rcheck Warnings: 1