Package: GrafGen Version: 1.5.0 Command: rm -rf GrafGen.buildbin-libdir && mkdir GrafGen.buildbin-libdir && /Users/biocbuild/BBS/utils/build-universal.sh GrafGen_1.5.0.tar.gz /Library/Frameworks/R.framework/Resources/bin/R GrafGen.buildbin-libdir StartedAt: 2025-10-20 03:12:25 -0400 (Mon, 20 Oct 2025) EndedAt: 2025-10-20 03:13:04 -0400 (Mon, 20 Oct 2025) EllapsedTime: 38.3 seconds RetCode: 0 Status: OK PackageFile: GrafGen_1.5.0.tgz PackageFileSize: 3.214 MiB