Package: GrafGen Version: 1.5.0 Command: /Library/Frameworks/R.framework/Resources/bin/R CMD INSTALL GrafGen StartedAt: 2025-10-20 15:10:45 -0400 (Mon, 20 Oct 2025) EndedAt: 2025-10-20 15:10:54 -0400 (Mon, 20 Oct 2025) EllapsedTime: 8.9 seconds RetCode: 0 Status: OK