Package: GrafGen Version: 1.5.0 Command: /Library/Frameworks/R.framework/Resources/bin/R CMD check --install=check:GrafGen.install-out.txt --library=/Library/Frameworks/R.framework/Resources/library --no-vignettes --timings GrafGen_1.5.0.tar.gz StartedAt: 2025-10-20 20:04:49 -0400 (Mon, 20 Oct 2025) EndedAt: 2025-10-20 20:05:33 -0400 (Mon, 20 Oct 2025) EllapsedTime: 44.6 seconds RetCode: 0 Status: WARNINGS CheckDir: GrafGen.Rcheck Warnings: 1