Package: GrafGen Version: 1.5.0 Command: /Library/Frameworks/R.framework/Resources/bin/R CMD build --keep-empty-dirs --no-resave-data GrafGen StartedAt: 2025-10-20 16:35:28 -0400 (Mon, 20 Oct 2025) EndedAt: 2025-10-20 16:35:43 -0400 (Mon, 20 Oct 2025) EllapsedTime: 15.2 seconds RetCode: 0 Status: OK PackageFile: GrafGen_1.5.0.tar.gz PackageFileSize: 3.104 MiB